BEGIN:VCALENDAR
VERSION:2.0
PRODID:-//TYPO3/NONSGML News system (news)//EN
CALSCALE:GREGORIAN
METHOD:PUBLISH
BEGIN:VEVENT
UID:news-8741@st-margareten-rosental.gv.at

DTSTAMP:20260422T160054Z



DTSTART;TZID=Europe/Vienna:20260428T190000
DTEND;TZID=Europe/Vienna:20260428T000000

SUMMARY:Einladung zur öffentlichen Sitzung des Gemeinderates
DESCRIPTION:Ort:  Gemeindeamt, Sitzungssaal, 1. Stock;
Beginn: 19:00 Uhr

LOCATION:


END:VEVENT
END:VCALENDAR
