BEGIN:VCALENDAR
VERSION:2.0
PRODID:-//TYPO3/NONSGML News system (news)//EN
CALSCALE:GREGORIAN
METHOD:PUBLISH
BEGIN:VEVENT
UID:news-110995@st-margareten-rosental.gv.at

DTSTAMP:20260420T101719Z



DTSTART;TZID=Europe/Vienna:20260314T080000
DTEND;TZID=Europe/Vienna:20260314T140000

SUMMARY:Erste-Hilfe-Kindernotfallkurs
DESCRIPTION:Wie rette ich mein Kind wenn etwas passiert?

LOCATION:


END:VEVENT
END:VCALENDAR
